BEGIN:VCALENDAR
VERSION:2.0
BEGIN:VEVENT
PRODID:-//EventsAdmin//EN
UID:72286aab-0ba6-42ae-8ebb-545f0ce28d59@eventsadmin.com
DTSTAMP:20260425T133101Z
TRANSP:TRANSPARENT
DTSTART:20261124T090000
DTEND:20261125T170000
SUMMARY;ENCODING=QUOTED-PRINTABLE:UKAIRS 2026
LOCATION;ENCODING=QUOTED-PRINTABLE:John McIntyre Conference Centre
DESCRIPTION;ENCODING=QUOTED-PRINTABLE:Conference Overview=0D=0AThe second annual UK AI Research Symposium will be held at the John McIntyre Conference Centre on Pollock Estate, The University of Edinburgh on 24th and 25th November 2026.=0D=0AThe UK AI Research Symposium (UKAIRS) is the premier national gathering for the UK artificial intelligence research community. Organized in collaboration with UKRI, RAI UK, the national AI Hubs, and CDT centres, UKAIRS purpose is to bring together researchers and stakeholders from across disciplines, including co
END:VEVENT
END:VCALENDAR
